BEGIN:VCALENDAR
VERSION:2.0
PRODID:-//PYVOBJECT//NONSGML Version 1//EN
BEGIN:VEVENT
UID:27323:7016
DTSTART:20191103T000000
DTEND:20191124T000000
DESCRIPTION:\n	3.11.2019\n	10..11.2019\n	17.11.2019.\n	24.11.2019\n\n	Tisch
 reservierungen erbeten unter\n\n	Telefon: 07748 2281\n	Fax: 07748 2281\n	H
 andy: 0650 7482281\n\n	\n	Wir freuen uns auf Ihren Besuch!\n
DTSTAMP:20260424T153215Z
SUMMARY:Wildtage an den Sonntagen im November 2019
END:VEVENT
END:VCALENDAR
