BEGIN:VCALENDAR
VERSION:2.0
PRODID:-//PYVOBJECT//NONSGML Version 1//EN
BEGIN:VEVENT
UID:27323:6652
DTSTART:20190308T000000
DTEND:20190309T000000
DESCRIPTION:
DTSTAMP:20260424T153215Z
SUMMARY:8.3.2019 und 9.3.2019  Abends Frühjahrskonzert der Musikkapelle Ha
 ndenberg
END:VEVENT
END:VCALENDAR
