BEGIN:VCALENDAR
VERSION:2.0
PRODID:-//PYVOBJECT//NONSGML Version 1//EN
BEGIN:VEVENT
UID:27323:6651
DTSTART:20190306T000000
DTEND:20190306T000000
DESCRIPTION:
DTSTAMP:20260424T153545Z
SUMMARY:Ganztägig Heringschmaus
END:VEVENT
END:VCALENDAR
