BEGIN:VCALENDAR
VERSION:2.0
PRODID:-//PYVOBJECT//NONSGML Version 1//EN
BEGIN:VEVENT
UID:27323:6585
DTSTART:20190131T000000
DTEND:20190203T000000
DESCRIPTION:
DTSTAMP:20260424T152801Z
SUMMARY:Tage des Glaubens und der Herrlichkeit 1-3. Februar 2019 bei uns! A
 nfragen telefonisch unter 0650 7482281
END:VEVENT
END:VCALENDAR
