BEGIN:VCALENDAR
VERSION:2.0
PRODID:-//PYVOBJECT//NONSGML Version 1//EN
BEGIN:VEVENT
UID:27323:6338
DTSTART:20181104T000000
DTEND:20181125T000000
DESCRIPTION:
DTSTAMP:20260424T153011Z
SUMMARY:Wildwochen im November im Gasthof Schmerold - Handenberg
END:VEVENT
END:VCALENDAR
