BEGIN:VCALENDAR
VERSION:2.0
PRODID:-//PYVOBJECT//NONSGML Version 1//EN
BEGIN:VEVENT
UID:27323:5899
DTSTART:20180208T000000
DTEND:20180214T000000
DESCRIPTION:
DTSTAMP:20260424T153635Z
SUMMARY:Traditioneller Heringschmaus am Aschermittwoch\, 14. Februar 2018\,
  ganztägig ab 11h 
END:VEVENT
END:VCALENDAR
