BEGIN:VCALENDAR
VERSION:2.0
PRODID:-//PYVOBJECT//NONSGML Version 1//EN
BEGIN:VEVENT
UID:27323:5872
DTSTART:20180125T000000
DTEND:20180204T000000
DESCRIPTION:
DTSTAMP:20260424T152924Z
SUMMARY:Tage des Glaubens & der Herrlichkeit 2.2. bis 4.2.2018
END:VEVENT
END:VCALENDAR
