BEGIN:VCALENDAR
VERSION:2.0
PRODID:-//PYVOBJECT//NONSGML Version 1//EN
BEGIN:VEVENT
UID:27323:5709
DTSTART:20171025T000000
DTEND:20171126T000000
DESCRIPTION:\n	Sonntag  5. November\n	Sonntag  12. November\n	Sonntag  1
 9. November\n	Sonntag  26. November\n\n	Tischreservierungen erbeten unter
 :  07748 – 2281\n
DTSTAMP:20260424T153214Z
SUMMARY:Wildwochen im November im Gasthof Schmerold – Handenberg
END:VEVENT
END:VCALENDAR
